BEGIN:VCALENDAR
PRODID:-//eluceo/ical//2.0/EN
VERSION:2.0
CALSCALE:GREGORIAN
BEGIN:VEVENT
UID:b66b9e9eb65f0a03741d12d690043aa7
DTSTAMP:20260419T161445Z
SUMMARY:Pesach 
DESCRIPTION:UJA Federation of Greater Toronto\nJewish Toronto Calendar\nhtt
 ps://jewishtoronto.com/calendar/pesach-1\n\nPesach
DTSTART;TZID=America/Toronto:20150404T000000
DTEND;TZID=America/Toronto:20150411T000000
END:VEVENT
END:VCALENDAR
