BEGIN:VCALENDAR
PRODID:-//eluceo/ical//2.0/EN
VERSION:2.0
CALSCALE:GREGORIAN
BEGIN:VEVENT
UID:b323be911b7ea7a8f596012e7b0e5925
DTSTAMP:20260421T151209Z
SUMMARY:Performance by  Miri Ben-Ari
DESCRIPTION:UJA Federation of Greater Toronto\nJewish Toronto Calendar\nhtt
 ps://jewishtoronto.com/calendar/performance-by-miri-ben-ari\n\nCome and se
 e a performance by Grammy award-winning violinist\, music producer\, and G
 oodwill Ambassador of Music to the United Nations\, Miri Ben-Ari\, taking 
 place at the FLATO Markham Theatre at 8:00PM.\n\nClick here for tickets
DTSTART;TZID=America/Toronto:20200312T000000
DTEND;TZID=America/Toronto:20200312T235959
END:VEVENT
END:VCALENDAR
