BEGIN:VCALENDAR
PRODID:-//eluceo/ical//2.0/EN
VERSION:2.0
CALSCALE:GREGORIAN
BEGIN:VEVENT
UID:23fcedfbd3c1a578d6f241ec44738374
DTSTAMP:20260422T000357Z
SUMMARY:Peppertree Klassics Fashion Show and Afternoon Tea-Fundraiser for L
 'chaim
DESCRIPTION:UJA Federation of Greater Toronto\nJewish Toronto Calendar\nhtt
 ps://jewishtoronto.com/calendar/peppertree-klassics-fashion-show-and-after
 noon-tea-fundraiser-for-lchaim-1521544235\n\nTickets-$36\, $18. tax receip
 t. Limited tickets\; order early. Tickets go on sale April 17\, 2018. Call
  4166335100
DTSTART;TZID=America/Toronto:20180610T140000
DTEND;TZID=America/Toronto:20180610T160000
END:VEVENT
END:VCALENDAR
