BEGIN:VCALENDAR
PRODID:-//eluceo/ical//2.0/EN
VERSION:2.0
CALSCALE:GREGORIAN
BEGIN:VEVENT
UID:feb30662e815ca2f5718a3eb6e2d85bd
DTSTAMP:20260422T051947Z
SUMMARY:Pedie Wolfond
DESCRIPTION:UJA Federation of Greater Toronto\nJewish Toronto Calendar\nhtt
 ps://jewishtoronto.com/calendar/pedie-wolfond-1506884288\n\nThis landmark 
 exhibition celebrates Pedie Wolfond’s incredible sixty-year career as a 
 painter and her contributions to Canadian abstraction. Wolfond’s paintin
 gs seem not only to reflect light\, but to contain it. Through her meticul
 ous application of thin acrylic washes\, Wolfond’s works tap into the ph
 enomenological effects of light and colour. The large-scale canvases pulse
  with optical intensity\, taking viewers through a visual symphony of mood
 s and emotions.\n\nFeaturing new work and ...
DTSTART;TZID=America/Toronto:20171012T110000
DTEND;TZID=America/Toronto:20171112T170000
END:VEVENT
END:VCALENDAR
