BEGIN:VCALENDAR
PRODID:-//eluceo/ical//2.0/EN
VERSION:2.0
CALSCALE:GREGORIAN
BEGIN:VEVENT
UID:7f426a67eb2964e2de683bf9916fc74f
DTSTAMP:20260423T220953Z
SUMMARY:Peace of Mind Shabbat at Beth Tzedec
DESCRIPTION:UJA Federation of Greater Toronto\nJewish Toronto Calendar\nhtt
 ps://jewishtoronto.com/calendar/peace-of-mind-shabbat-at-beth-tzedec-14958
 03006\n\nThrough the international Peace of Mind program\, Beth Tzedec has
  the privilege of honouring a special unit of discharged Israeli soldiers 
 as part of our Israeli Action Committee initiatives. They will join us for
  Shaharit\, followed by a special Community Kiddush in their honour. Every
 one is welcome to attend.
DTSTART;TZID=America/Toronto:20170610T084500
DTEND;TZID=America/Toronto:20170610T120000
END:VEVENT
END:VCALENDAR
