BEGIN:VCALENDAR
PRODID:-//eluceo/ical//2.0/EN
VERSION:2.0
CALSCALE:GREGORIAN
BEGIN:VEVENT
UID:c40272af62ce78ba092ab1a086dff4c3
DTSTAMP:20260422T050922Z
SUMMARY:Peace of Mind Kabbalat Shabbat Service and Dinner
DESCRIPTION:UJA Federation of Greater Toronto\nJewish Toronto Calendar\nhtt
 ps://jewishtoronto.com/calendar/peace-of-mind-kabbalat-shabbat-service-and
 -dinner-1495803194\n\nThrough the international Peace of Mind program\, Be
 th Tzedec has the privilege of honouring a special unit of discharged Isra
 eli soldiers as part of our Israeli Action Committee initiatives. Join us 
 as we celebrate and share as a community at a special Kabbalat Shabbat Ser
 vice followed by a delicious dinner. Cost: $36 adults\; $18 youth (ages 5-
 14)\; $6 children (ages 1-4). Dinner reservations required by Monday\, Jun
 e 5.
DTSTART;TZID=America/Toronto:20170609T183000
DTEND;TZID=America/Toronto:20170609T213000
END:VEVENT
END:VCALENDAR
