BEGIN:VCALENDAR
PRODID:-//eluceo/ical//2.0/EN
VERSION:2.0
CALSCALE:GREGORIAN
BEGIN:VEVENT
UID:2eb6ddd461e1d4a3bed72c0e6a8a7998
DTSTAMP:20260423T044039Z
SUMMARY:POM Canada Yom Yerushalayim Celebration: Honouring Our Israeli Hero
 es
DESCRIPTION:UJA Federation of Greater Toronto\nJewish Toronto Calendar\nhtt
 ps://jewishtoronto.com/calendar/peace-of-mind-canada-celebrating-our-heroe
 s-1674097133\n\nA celebration of Our Israeli Heroes
DTSTART;TZID=America/Toronto:20230518T190000
DTEND;TZID=America/Toronto:20230518T210000
END:VEVENT
END:VCALENDAR
