BEGIN:VCALENDAR
PRODID:-//eluceo/ical//2.0/EN
VERSION:2.0
CALSCALE:GREGORIAN
BEGIN:VEVENT
UID:326c3e774975d739082e885ee611f76d
DTSTAMP:20260423T192150Z
SUMMARY:Pause & Affect - A Shabbat Outlook
DESCRIPTION:UJA Federation of Greater Toronto\nJewish Toronto Calendar\nhtt
 ps://jewishtoronto.com/calendar/pause--affect---a-shabbat-outlook-15081638
 87\n\nSlated to run in over 200 locations across the globe\, Pause & Affec
 t provides multiple entry points so that students at every level of affili
 ation can explore meaningful ways to enrich their lives through the lesson
 s of Shabbat.\n“Pause & Affect presents not only the beauty of this most
  precious of Jewish treasures\, but invites women of every level of observ
 ance to experience the wondrous mystery of this special day\,” says RCS 
 director Mrs. Shaindy Jacobson. “Shabbat is G-d’s gift to ...
DTSTART;TZID=America/Toronto:20171120T200000
DTEND;TZID=America/Toronto:20171120T220000
END:VEVENT
END:VCALENDAR
