BEGIN:VCALENDAR
PRODID:-//eluceo/ical//2.0/EN
VERSION:2.0
CALSCALE:GREGORIAN
BEGIN:VEVENT
UID:58b5edd468bba43fc2a00b7f19728e2b
DTSTAMP:20260422T141313Z
SUMMARY:Pause & Affect - A Shabbat Outlook
DESCRIPTION:UJA Federation of Greater Toronto\nJewish Toronto Calendar\nhtt
 ps://jewishtoronto.com/calendar/pause--affect---a-shabbat-outlook-15081637
 27\n\nThis October the Rosh Chodesh Society—the women’s division of th
 e Jewish Russian Community Centre—launches its latest course\, Pause & A
 ffect\, a new seven-session series for women provided by the Jewish Learni
 ng Institute. Slated to run in over 200 locations across the globe\, Pause
  & Affect provides multiple entry points so that students at every level o
 f affiliation can explore meaningful ways to enrich their lives through th
 e lessons of Shabbat.\n“Pause & Affect presents not only the...
DTSTART;TZID=America/Toronto:20171030T200000
DTEND;TZID=America/Toronto:20171030T220000
END:VEVENT
END:VCALENDAR
