BEGIN:VCALENDAR
PRODID:-//eluceo/ical//2.0/EN
VERSION:2.0
CALSCALE:GREGORIAN
BEGIN:VEVENT
UID:3a5b5d87e7c75a24e238698f27423a1e
DTSTAMP:20260422T220123Z
SUMMARY:Pathways to Hope: A Conversation with Young Israeli Changemakers
DESCRIPTION:UJA Federation of Greater Toronto\nJewish Toronto Calendar\nhtt
 ps://jewishtoronto.com/calendar/pathways-to-hope-a-conversation-with-young
 -israeli-changemakers-1763736544\n\nhttps://www.hartman.org.il/event/a-con
 versation-with-young-israeli-changemakers-toronto/
DTSTART;TZID=America/Toronto:20251209T190000
DTEND;TZID=America/Toronto:20251209T210000
END:VEVENT
END:VCALENDAR
