BEGIN:VCALENDAR
PRODID:-//eluceo/ical//2.0/EN
VERSION:2.0
CALSCALE:GREGORIAN
BEGIN:VEVENT
UID:132e241ad88705d4a1f09b3aa7aae0a5
DTSTAMP:20260421T015036Z
SUMMARY:Passover Matzah Making
DESCRIPTION:UJA Federation of Greater Toronto\nJewish Toronto Calendar\nhtt
 ps://jewishtoronto.com/calendar/passover-matzah-making-1772480681\n\nCreat
 e a new family tradition - bake matzah for your seder plate!\nThis 1-hour\
 , hybrid workshop will feature a live demonstration on making matzah\, mat
 zah trivia and fun facts.\nYou can bake along with Elliot or do your bakin
 g later.\n\nWhether you're joining in person or on Zoom\, this interactive
  workshop offers a meaningful way to connect ancient ritual with your mode
 rn life - and you add something homemade to your seder plate!\n\nPlease no
 te that this is not schmura matzah and that our THZ...
DTSTART;TZID=America/Toronto:20260329T130000
DTEND;TZID=America/Toronto:20260329T140000
END:VEVENT
END:VCALENDAR
