BEGIN:VCALENDAR
PRODID:-//eluceo/ical//2.0/EN
VERSION:2.0
CALSCALE:GREGORIAN
BEGIN:VEVENT
UID:c3a69eab2cbf6638bb94839d9069e192
DTSTAMP:20260423T071427Z
SUMMARY:Passover Groove
DESCRIPTION:UJA Federation of Greater Toronto\nJewish Toronto Calendar\nhtt
 ps://jewishtoronto.com/calendar/passover-groove-1489805344\n\nHands-on Pas
 sover fun for the whole family! Presented with Israeli Connections\, Paul 
 Penna Downtown Jewish Day School\, Downtown Jewish Community School\, Camp
  Gesher/Habonim Dror and Shomer Hatzair.
DTSTART;TZID=America/Toronto:20170402T143000
DTEND;TZID=America/Toronto:20170402T163000
END:VEVENT
END:VCALENDAR
