BEGIN:VCALENDAR
PRODID:-//eluceo/ical//2.0/EN
VERSION:2.0
CALSCALE:GREGORIAN
BEGIN:VEVENT
UID:732a2d9ca740173b2b0a5bfac2d27c05
DTSTAMP:20260419T135659Z
SUMMARY:Passover Food Drive Delivery Day
DESCRIPTION:UJA Federation of Greater Toronto\nJewish Toronto Calendar\nhtt
 ps://jewishtoronto.com/calendar/passover-food-drive-delivery-day-145451992
 7\n\nThe Passover Food Drive delivers over 2600 boxes of food to recipient
 s in the Jewish Community\, who otherwise would not be able to celebrate P
 assover\,\n\nDrivers are needed to assist in delivering these boxes of foo
 d.\n\nRecipients are referred  by social agencies\, synagogues service and
  chaplaincy groups.\n\nwww.passoverfooddrive.com
DTSTART;TZID=America/Toronto:20160417T000000
DTEND;TZID=America/Toronto:20160417T000000
END:VEVENT
END:VCALENDAR
