BEGIN:VCALENDAR
PRODID:-//eluceo/ical//2.0/EN
VERSION:2.0
CALSCALE:GREGORIAN
BEGIN:VEVENT
UID:7e835a4473ea8b9e1126401a9bbb8c41
DTSTAMP:20260424T201344Z
SUMMARY:Passover Celebration with Camp Shomria (Hashomer Hatzair)
DESCRIPTION:UJA Federation of Greater Toronto\nJewish Toronto Calendar\nhtt
 ps://jewishtoronto.com/calendar/passover-celebration-with-camp-shomria-has
 homer-hatzair-1646625480\n\nCamp Shomria (Hashomer Hatzair) is inviting th
 e public to our open community event to celebrate Passover.For more detail
 s please email shaliach@campshomria.ca
DTSTART;TZID=America/Toronto:20220414T170000
DTEND;TZID=America/Toronto:20220414T200000
END:VEVENT
END:VCALENDAR
