BEGIN:VCALENDAR
PRODID:-//eluceo/ical//2.0/EN
VERSION:2.0
CALSCALE:GREGORIAN
BEGIN:VEVENT
UID:be76125386deef8b1682045c629a5044
DTSTAMP:20260421T140424Z
SUMMARY:Party at the Palace! Purim Carnival
DESCRIPTION:UJA Federation of Greater Toronto\nJewish Toronto Calendar\nhtt
 ps://jewishtoronto.com/calendar/party-at-the-palace-purim-carnival\n\nPart
 y at the Palace! Purim Carnival\nSunday March 1 | 10:00 am - 1:00 pm\nAtte
 ntion princesses\, superheroes\, and pirates! Put on your best costume and
  come to our annual Purim carnival! Sonshine & Broccoli\, games\, photo bo
 oth\, bouncy castle\, crafts\, hamentaschen\, a book nook and more! Kosher
  lunch provided.\nPre-registration by February 28: $15 per family (up to 5
  people)\nAt the door: $20 per family (up to 5 people)\nRegister: (416) 92
 4-6211 x 0\nInfo: sharonis@mnjcc.org  or (416) 924-6211 ...
DTSTART;TZID=America/Toronto:20150301T100000
DTEND;TZID=America/Toronto:20150301T130000
END:VEVENT
END:VCALENDAR
