BEGIN:VCALENDAR
PRODID:-//eluceo/ical//2.0/EN
VERSION:2.0
CALSCALE:GREGORIAN
BEGIN:VEVENT
UID:80f5d09a7986de31d49a9c04a2b16ad0
DTSTAMP:20260422T061106Z
SUMMARY:Parlour Meeting Glen Cohen
DESCRIPTION:UJA Federation of Greater Toronto\nJewish Toronto Calendar\nhtt
 ps://jewishtoronto.com/calendar/parlour-meeting-glen-cohen-1721833643\n\nP
 arlour event with Glen Cohen Former Mossad officer and Chief Psychologist
DTSTART;TZID=America/Toronto:20241113T190000
DTEND;TZID=America/Toronto:20241113T223000
END:VEVENT
END:VCALENDAR
