BEGIN:VCALENDAR
PRODID:-//eluceo/ical//2.0/EN
VERSION:2.0
CALSCALE:GREGORIAN
BEGIN:VEVENT
UID:4016d462fda8786f44f4544bce4cf16f
DTSTAMP:20260424T053943Z
SUMMARY:Parents' Night In!
DESCRIPTION:UJA Federation of Greater Toronto\nJewish Toronto Calendar\nhtt
 ps://jewishtoronto.com/calendar/parents-night-in-1591984322\n\nOnce the ki
 ds are asleep\, award-winning singer-songwriter\, Mark Weinstock\, gets hi
 s guitar out for an intimate concert to enjoy from the comfort of your hom
 e. Join us for a night of song and togetherness. BYOB.\nClick the link to 
 register: https://holyblossom.org/event/parents-night-in/
DTSTART;TZID=America/Toronto:20200617T211500
DTEND;TZID=America/Toronto:20200617T220000
END:VEVENT
END:VCALENDAR
