BEGIN:VCALENDAR
PRODID:-//eluceo/ical//2.0/EN
VERSION:2.0
CALSCALE:GREGORIAN
BEGIN:VEVENT
UID:446c8d261d4fe5791d343e428d826fa8
DTSTAMP:20260419T152015Z
SUMMARY:Pape Ave. Cemetery Walking Tour
DESCRIPTION:UJA Federation of Greater Toronto\nJewish Toronto Calendar\nhtt
 ps://jewishtoronto.com/calendar/pape-ave-cemetery-walking-tour-1493908091\
 n\nThe Pape Avenue Cemetery was established in 1849 and is Toronto's oldes
 t Jewish cemetery. It is now owned by Holy Blossom Temple. Buried in this 
 cemetery are many of Toronto’s earliest Jewish residents. By examining t
 heir individual lives\, both the hardships and the triumphs of this format
 ive period are revealed. The tour also explores the art and tradition embe
 dded on these early Jewish burial stones.\n\nPlease visit our website to r
 egister.
DTSTART;TZID=America/Toronto:20170827T110000
DTEND;TZID=America/Toronto:20170827T130000
END:VEVENT
END:VCALENDAR
