BEGIN:VCALENDAR
PRODID:-//eluceo/ical//2.0/EN
VERSION:2.0
CALSCALE:GREGORIAN
BEGIN:VEVENT
UID:e3e2ab0702a763609e87ba6763eba336
DTSTAMP:20260421T232559Z
SUMMARY:PAC Meeting- Jewish Foundation of Greater Toronto
DESCRIPTION:UJA Federation of Greater Toronto\nJewish Toronto Calendar\nhtt
 ps://jewishtoronto.com/calendar/pac-meeting-jewish-foundation-of-greater-t
 oronto\n\nPAC Meeting-
DTSTART;TZID=America/Toronto:20151216T073000
DTEND;TZID=America/Toronto:20151216T090000
END:VEVENT
END:VCALENDAR
