BEGIN:VCALENDAR
PRODID:-//eluceo/ical//2.0/EN
VERSION:2.0
CALSCALE:GREGORIAN
BEGIN:VEVENT
UID:4b7b21887810bd624978941e65d52863
DTSTAMP:20260423T183640Z
SUMMARY:Over the Edge for Chai
DESCRIPTION:UJA Federation of Greater Toronto\nJewish Toronto Calendar\nhtt
 ps://jewishtoronto.com/calendar/over-the-edge-for-chai-1617822530\n\nwww.o
 vertheedgeforchai.com\n\nChai Lifeline Canada (CLC) is partnering with Ove
 r the Edge for a unique peer to peer fundraising event on June 20th. This 
 once-in-a-lifetime event will be an opportunity to rappel down an iconic d
 owntown Toronto building in an exciting and completely safe environment.  
 Our top choice for a building at this time is the Royal York Hotel\, locat
 ed within sight of the CN Tower.\nAre brave enough to rappel down the face
  of an iconic Toronto building? Stepping off the...
DTSTART;TZID=America/Toronto:20210620T100000
DTEND;TZID=America/Toronto:20210620T180000
END:VEVENT
END:VCALENDAR
