BEGIN:VCALENDAR
PRODID:-//eluceo/ical//2.0/EN
VERSION:2.0
CALSCALE:GREGORIAN
BEGIN:VEVENT
UID:da02910c5a4161d2671ce83f4aa755ae
DTSTAMP:20260422T194040Z
SUMMARY:Our Prayer for Canada:  Anti-Racism and Judaism
DESCRIPTION:UJA Federation of Greater Toronto\nJewish Toronto Calendar\nhtt
 ps://jewishtoronto.com/calendar/our-prayer-for-canada--anti-racism-and-jud
 aism-1596812632\n\nRabbi Phillip Scheim will be the moderator for a discus
 sion on the discrepancy between the ideals highlighted in &quot\;Our Praye
 r for Canada&quot\; and the reality of Jews who have been racialized  and 
 the connection between anti-racism and the traditions of Judaism.   A pane
 l of three Beth David members  will speak about their personal experiences
   in the Jewish community.  This is a Zoom program\; register for the prog
 ram on the Beth David website to receive the link for the program.
DTSTART;TZID=America/Toronto:20200826T193000
DTEND;TZID=America/Toronto:20200826T213000
END:VEVENT
END:VCALENDAR
