BEGIN:VCALENDAR
PRODID:-//eluceo/ical//2.0/EN
VERSION:2.0
CALSCALE:GREGORIAN
BEGIN:VEVENT
UID:c4f0bcdb6694d61bb3b929873542d975
DTSTAMP:20260424T162512Z
SUMMARY:OU - JLIC Hillel Ontario Fundraiser
DESCRIPTION:UJA Federation of Greater Toronto\nJewish Toronto Calendar\nhtt
 ps://jewishtoronto.com/calendar/ou-jlic-hillel-ontario-fundraiser\n\nOU - 
 JLIC Hillel Ontario Fundraiser
DTSTART;TZID=America/Toronto:20170225T210000
DTEND;TZID=America/Toronto:20170225T230000
END:VEVENT
END:VCALENDAR
