BEGIN:VCALENDAR
PRODID:-//eluceo/ical//2.0/EN
VERSION:2.0
CALSCALE:GREGORIAN
BEGIN:VEVENT
UID:77d577763a723b03b5852adef9934cab
DTSTAMP:20260419T165509Z
SUMMARY:ORT Toronto Gala for Jewish Education
DESCRIPTION:UJA Federation of Greater Toronto\nJewish Toronto Calendar\nhtt
 ps://jewishtoronto.com/calendar/ort-toronto-gala-for-jewish-education-1569
 590630\n\nCommunity fundraiser in support of Jewish Education organized by
  ORT Toronto
DTSTART;TZID=America/Toronto:20200519T190000
DTEND;TZID=America/Toronto:20200519T220000
END:VEVENT
END:VCALENDAR
