BEGIN:VCALENDAR
PRODID:-//eluceo/ical//2.0/EN
VERSION:2.0
CALSCALE:GREGORIAN
BEGIN:VEVENT
UID:da47cc0f360f2304b92ec7e835f6abb0
DTSTAMP:20260424T080544Z
SUMMARY:ORT Toronto Gala
DESCRIPTION:UJA Federation of Greater Toronto\nJewish Toronto Calendar\nhtt
 ps://jewishtoronto.com/calendar/ort-toronto-gala-1462545410\n\nPlease chec
 k back for further details
DTSTART;TZID=America/Toronto:20161208T180000
DTEND;TZID=America/Toronto:20161208T220000
END:VEVENT
END:VCALENDAR
