BEGIN:VCALENDAR
PRODID:-//eluceo/ical//2.0/EN
VERSION:2.0
CALSCALE:GREGORIAN
BEGIN:VEVENT
UID:ede837d68ca991835a6babad6d2843cb
DTSTAMP:20260424T055745Z
SUMMARY:ORT Toronto Classic Golf Fundraiser
DESCRIPTION:UJA Federation of Greater Toronto\nJewish Toronto Calendar\nhtt
 ps://jewishtoronto.com/calendar/ort-toronto-classic-golf-fundraiser-172434
 3837\n\nJoin us for a exciting day of golf in support of a great cause. Yo
 ur day of golf includes the following: Championship golf course. Par 70 la
 yout. Play early or late in the day. Tee times begin at 8 AM. Includes 18 
 holes and cart\, 2 great meals\, snacks\, drinks and prizes. Kashruth\, an
 d other dietary restrictions respected. Prizes including for "The Longest 
 Drive" and "Closest to the Pin"
DTSTART;TZID=America/Toronto:20250916T080000
DTEND;TZID=America/Toronto:20250916T200000
END:VEVENT
END:VCALENDAR
