BEGIN:VCALENDAR
PRODID:-//eluceo/ical//2.0/EN
VERSION:2.0
CALSCALE:GREGORIAN
BEGIN:VEVENT
UID:96fc198f652ff89d3fa1dd5ea4e7ad55
DTSTAMP:20260420T093207Z
SUMMARY:ORT Toronto Charity Golf Tournament
DESCRIPTION:UJA Federation of Greater Toronto\nJewish Toronto Calendar\nhtt
 ps://jewishtoronto.com/calendar/ort-toronto-charity-golf-tournament-159586
 6421\n\n12pm shotgun\, scrabble format tournament\, dinner included
DTSTART;TZID=America/Toronto:20210629T123000
DTEND;TZID=America/Toronto:20210629T193000
END:VEVENT
END:VCALENDAR
