BEGIN:VCALENDAR
PRODID:-//eluceo/ical//2.0/EN
VERSION:2.0
CALSCALE:GREGORIAN
BEGIN:VEVENT
UID:bee44b71255dc069dbf0a6ff4d5c521e
DTSTAMP:20260424T224451Z
SUMMARY:ORT Toronto Battle of the AirBands
DESCRIPTION:UJA Federation of Greater Toronto\nJewish Toronto Calendar\nhtt
 ps://jewishtoronto.com/calendar/ort-toronto-battle-of-the-airbands-1481215
 644\n\nThis is your chance to feel like a camper again. Be a rock star\, l
 augh out loud and perform like your favourite band! You and your friends a
 re invited to perform the song of your choice with choreographed dance mov
 es and lip syncing to the original artists. Be wild! Be adventurous! Get y
 our act together today!
DTSTART;TZID=America/Toronto:20171019T200000
DTEND;TZID=America/Toronto:20171019T223000
END:VEVENT
END:VCALENDAR
