BEGIN:VCALENDAR
PRODID:-//eluceo/ical//2.0/EN
VERSION:2.0
CALSCALE:GREGORIAN
BEGIN:VEVENT
UID:0f732f07b6ee3d8463bb17547af47249
DTSTAMP:20260421T073545Z
SUMMARY:Organ Transplantation with Dr. Gary Levy and Lauren Fichman
DESCRIPTION:UJA Federation of Greater Toronto\nJewish Toronto Calendar\nhtt
 ps://jewishtoronto.com/calendar/organ-transplantation-with-dr-gary-levy-an
 d-lauren-fichman-1524599884\n\nA Temple Sinai Program: Dr. Lou Siminovitch
  Lecture Series — Organ Transplantation: Where Science and Community\n\n
 Intersect with Dr. Gary Levy and Lauren Fichman\, Liver Transplant Recipie
 nt\nLearn how organ transplantation has saved thousands of lives and how a
 dvances in medical knowledge have the potential to save even more people a
 nd to improve the health of those suffering from organ impairment. Dr. Lev
 y and Ms. Fichman will challenge us to consider the role of the Jewish and
  other comm...
DTSTART;TZID=America/Toronto:20180515T190000
DTEND;TZID=America/Toronto:20180515T210000
END:VEVENT
END:VCALENDAR
