BEGIN:VCALENDAR
PRODID:-//eluceo/ical//2.0/EN
VERSION:2.0
CALSCALE:GREGORIAN
BEGIN:VEVENT
UID:cf1d270889909988e8310901a1a1aa4c
DTSTAMP:20260424T070516Z
SUMMARY:Opera for All: Community Concert
DESCRIPTION:UJA Federation of Greater Toronto\nJewish Toronto Calendar\nhtt
 ps://jewishtoronto.com/calendar/opera-for-all-community-concert-1459953759
 \n\nChoral Workshop and Opera Studio singers perform with Maestro Alvaro L
 ozano Gutierrez and Collaborative Pianist Asher Farber.\n\n
DTSTART;TZID=America/Toronto:20160416T160000
DTEND;TZID=America/Toronto:20160416T183000
END:VEVENT
END:VCALENDAR
