BEGIN:VCALENDAR
PRODID:-//eluceo/ical//2.0/EN
VERSION:2.0
CALSCALE:GREGORIAN
BEGIN:VEVENT
UID:40b596e8856e63f8dd6bf7f2e3eb3bcd
DTSTAMP:20260425T202920Z
SUMMARY:Opera Appreciation: Ten Types of Tenors
DESCRIPTION:UJA Federation of Greater Toronto\nJewish Toronto Calendar\nhtt
 ps://jewishtoronto.com/calendar/opera-appreciation-ten-types-of-tenors-150
 8435331\n\nWith Iain Scott\nDiscover the wonderful range of the tenor repe
 rtory\, including such operatic giants as Enrico Caruso\, Jon Vickers\, Be
 niamino Gigli and Luciano Pavarotti.\nSeries: $90\, Drop-in: $22\n
DTSTART;TZID=America/Toronto:20171106T133000
DTEND;TZID=America/Toronto:20171106T153000
END:VEVENT
END:VCALENDAR
