BEGIN:VCALENDAR
PRODID:-//eluceo/ical//2.0/EN
VERSION:2.0
CALSCALE:GREGORIAN
BEGIN:VEVENT
UID:8e26aeea56aa4230a741493f7cc7480e
DTSTAMP:20260420T184630Z
SUMMARY:Opening Night - 34th Annual Holocaust Education Week
DESCRIPTION:UJA Federation of Greater Toronto\nJewish Toronto Calendar\nhtt
 ps://jewishtoronto.com/calendar/opening-night-34th-annual-holocaust-educat
 ion-week\n\nhttp://www.holocaustcentre.com/
DTSTART;TZID=America/Toronto:20141102T180000
DTEND;TZID=America/Toronto:20141102T210000
END:VEVENT
END:VCALENDAR
