BEGIN:VCALENDAR
PRODID:-//eluceo/ical//2.0/EN
VERSION:2.0
CALSCALE:GREGORIAN
BEGIN:VEVENT
UID:cb7697f5cd7b62d2a8daea9f543beac9
DTSTAMP:20260421T142317Z
SUMMARY:UJA Federation | Ontario Jewish Archives 50th Anniversary Event
DESCRIPTION:UJA Federation of Greater Toronto\nJewish Toronto Calendar\nhtt
 ps://jewishtoronto.com/calendar/ontario-jewish-archives-50th-anniversary-e
 vent-1701466103\n\nThis is a celebratory event offering invitees the oppor
 tunity to honour 50 years of collecting the community's history. Th event 
 includes an exhibition tour\, reception and a sneak-peek into the OJA's ri
 ch and diverse collection.
DTSTART;TZID=America/Toronto:20240414T160000
DTEND;TZID=America/Toronto:20240414T180000
END:VEVENT
END:VCALENDAR
