BEGIN:VCALENDAR
PRODID:-//eluceo/ical//2.0/EN
VERSION:2.0
CALSCALE:GREGORIAN
BEGIN:VEVENT
UID:5aef3e551cba3ea4676e98b0564caa6b
DTSTAMP:20260422T165302Z
SUMMARY:Online Mindfulness Meditation and Breathing for Neurodiverse Young 
 Adults
DESCRIPTION:UJA Federation of Greater Toronto\nJewish Toronto Calendar\nhtt
 ps://jewishtoronto.com/calendar/online-mindfulness-meditation-and-breathin
 g-for-neurodiverse-young-adults\n\nJoin mindfulness teacher Sue Hutton MSW
  and learn simple and effective ways to calm your mind during this difficu
 lt time. Sue focuses on making mindfulness accessible to everybody while c
 reating community at the same time.\n\nThis is a program for neurodiverse 
 young adults from Toronto and Montreal\, presented by Miles Nadal JCC in c
 ollaboration with Montreal's Sylvan Adams Y\, an allliance facilitated by 
 Fondation Alink \n\nFor more information and to register: https://www.am
 ilia.com/store/e...
DTSTART;TZID=America/Toronto:20210214T100000
DTEND;TZID=America/Toronto:20210214T104500
END:VEVENT
END:VCALENDAR
