BEGIN:VCALENDAR
PRODID:-//eluceo/ical//2.0/EN
VERSION:2.0
CALSCALE:GREGORIAN
BEGIN:VEVENT
UID:2e6967c384b0309ad7e4744699fe0051
DTSTAMP:20260421T165927Z
SUMMARY:Online Hasbara: Defending Israel on the front lines of Social Media
  
DESCRIPTION:UJA Federation of Greater Toronto\nJewish Toronto Calendar\nhtt
 ps://jewishtoronto.com/calendar/online-hasbara-defending-israel-on-the-fro
 nt-lines-of-social-media\n\nOnline Hasbara: Defending Israel on the front 
 lines of Social Media (Become a Digital Warrior)\n\nJoin Shaar Shalom & le
 arn how to defend Israel online and on your social media. Workshop will be
  run by Hasbara's Robert Walker. This event is Free & for more information
 \, please contact program@shaarshalom.ca. \n\n \n\n 
DTSTART;TZID=America/Toronto:20150827T193000
DTEND;TZID=America/Toronto:20150827T210000
END:VEVENT
END:VCALENDAR
