BEGIN:VCALENDAR
PRODID:-//eluceo/ical//2.0/EN
VERSION:2.0
CALSCALE:GREGORIAN
BEGIN:VEVENT
UID:5bfd268624bc99a6141adfb6bf8d6b29
DTSTAMP:20260425T210557Z
SUMMARY:Oneg Shabbat Groove Tea
DESCRIPTION:UJA Federation of Greater Toronto\nJewish Toronto Calendar\nhtt
 ps://jewishtoronto.com/calendar/oneg-shabbat-groove-tea-1489804961\n\nSpri
 ng kick-off!\nA taste of Shabbat Family Groove in the afternoon! All are w
 elcome: whether you&rsquo\;re a new\, returning\, or graduate member of ou
 r Shabbat Family programs\, get together for a little tea\, challah\, and 
 song. Bring a dairy\, nut-free snack and come to delight in Shabbat togeth
 er!\nFREE
DTSTART;TZID=America/Toronto:20170331T163000
DTEND;TZID=America/Toronto:20170331T173000
END:VEVENT
END:VCALENDAR
