BEGIN:VCALENDAR
PRODID:-//eluceo/ical//2.0/EN
VERSION:2.0
CALSCALE:GREGORIAN
BEGIN:VEVENT
UID:5ca65909e672b0d1ace499c2dc2a6c08
DTSTAMP:20260423T020147Z
SUMMARY:Miles Nadal JCC - Oneg Shabbat Family Groove
DESCRIPTION:UJA Federation of Greater Toronto\nJewish Toronto Calendar\nhtt
 ps://jewishtoronto.com/calendar/oneg-shabbat-family-groove-1473603106\n\nF
 ree Open House: Tea and Challah or bring a snack and celebrate Shabbat tog
 ether!\nShare the joy and excitement of Jewish life as a family!\nAges 0-4
  with their grown-ups. \n
DTSTART;TZID=America/Toronto:20160923T163000
DTEND;TZID=America/Toronto:20160923T173000
END:VEVENT
END:VCALENDAR
