BEGIN:VCALENDAR
PRODID:-//eluceo/ical//2.0/EN
VERSION:2.0
CALSCALE:GREGORIAN
BEGIN:VEVENT
UID:71706f0a3229cc867b443ffb3663d6b2
DTSTAMP:20260419T193428Z
SUMMARY:OneFamily Fund Canada - Taste for Life Event
DESCRIPTION:UJA Federation of Greater Toronto\nJewish Toronto Calendar\nhtt
 ps://jewishtoronto.com/calendar/onefamily-fund-canada-taste-for-life-event
 -1476475518\n\nA wonderful evening of Food and Inspiration in support of t
 he important work\nof OneFamily Fund who look after the needs of Victims o
 f Terror in Israel.\n 
DTSTART;TZID=America/Toronto:20170510T190000
DTEND;TZID=America/Toronto:20170510T230000
END:VEVENT
END:VCALENDAR
