BEGIN:VCALENDAR
PRODID:-//eluceo/ical//2.0/EN
VERSION:2.0
CALSCALE:GREGORIAN
BEGIN:VEVENT
UID:c85eee8897237f098843de977eaf624f
DTSTAMP:20260422T073205Z
SUMMARY:OneFamily Canada's A Taste for Life
DESCRIPTION:UJA Federation of Greater Toronto\nJewish Toronto Calendar\nhtt
 ps://jewishtoronto.com/calendar/onefamily-canadas-a-taste-for-life-1505486
 587\n\nPlease join us for our annual A Taste for Life at Artemano Fine Fur
 niture in Toronto.
DTSTART;TZID=America/Toronto:20180529T190000
DTEND;TZID=America/Toronto:20180529T230000
END:VEVENT
END:VCALENDAR
