BEGIN:VCALENDAR
PRODID:-//eluceo/ical//2.0/EN
VERSION:2.0
CALSCALE:GREGORIAN
BEGIN:VEVENT
UID:9e7f0669efe69fcf7529eb9876c58d8d
DTSTAMP:20260425T145618Z
SUMMARY:One Shabbat One World 2018
DESCRIPTION:UJA Federation of Greater Toronto\nJewish Toronto Calendar\nhtt
 ps://jewishtoronto.com/calendar/one-shabbat-one-world-2018-1515444168\n\nC
 elebrate 10 Shvat\, the anniversary of the Lubavitcher Rebbe's leadership.
 \nShabbat dinners will be hosted at all JRCC locations.
DTSTART;TZID=America/Toronto:20180126T170000
DTEND;TZID=America/Toronto:20180126T213000
END:VEVENT
END:VCALENDAR
