BEGIN:VCALENDAR
PRODID:-//eluceo/ical//2.0/EN
VERSION:2.0
CALSCALE:GREGORIAN
BEGIN:VEVENT
UID:881dad57ab3bbcda8974c4163cd0161e
DTSTAMP:20260425T202348Z
SUMMARY:On the Flip Side Concert
DESCRIPTION:UJA Federation of Greater Toronto\nJewish Toronto Calendar\nhtt
 ps://jewishtoronto.com/calendar/on-the-flip-side-concert-1579621147\n\nIn 
 honour of Shabbat Shira\, Beth Emeth Bais Yehuda’s Music Committee prese
 nts a performance with Beth Emeth's Cantor David Guber as you've never see
 n him before! Accompanied by Reuven Grajner.
DTSTART;TZID=America/Toronto:20200206T190000
DTEND;TZID=America/Toronto:20200206T220000
END:VEVENT
END:VCALENDAR
