BEGIN:VCALENDAR
PRODID:-//eluceo/ical//2.0/EN
VERSION:2.0
CALSCALE:GREGORIAN
BEGIN:VEVENT
UID:b6c1186646c4a276f4409631803d7a8f
DTSTAMP:20260423T184534Z
SUMMARY:Olympic Spring Training (in Winter!) with Dr. Josh Binstock
DESCRIPTION:UJA Federation of Greater Toronto\nJewish Toronto Calendar\nhtt
 ps://jewishtoronto.com/calendar/olympic-spring-training-in-winter-with-dr-
 josh-binstock-1515193891\n\nA Temple Sinai Next Generation Program (ages 2
 5 to 39): Olympic Spring Training (in Winter!) with two-time Olympian Dr. 
 Josh Binstock\n\nGet out your shorts and sporting gear and head over to Be
 ach Blast for an exclusive beach volleyball coaching session and game with
  Olympic superstar Josh Binstock. Join Josh\, hear his story and celebrate
  with Havdalah and snacks. Dr. Josh Binstock is an accomplished athlete an
 d a two-time Olympian who represented Canada at the London 2012 and Rio 20
 16 Olymp...
DTSTART;TZID=America/Toronto:20180120T160000
DTEND;TZID=America/Toronto:20180120T180000
END:VEVENT
END:VCALENDAR
