BEGIN:VCALENDAR
PRODID:-//eluceo/ical//2.0/EN
VERSION:2.0
CALSCALE:GREGORIAN
BEGIN:VEVENT
UID:10848ab3ee3c089b2588304b89a0494e
DTSTAMP:20260421T234407Z
SUMMARY:Olympic Blue Jean Shabbat at Beth Tikvah
DESCRIPTION:UJA Federation of Greater Toronto\nJewish Toronto Calendar\nhtt
 ps://jewishtoronto.com/calendar/olympic-blue-jean-shabbat-at-beth-tikvah-1
 513870006\n\nAn Olympic Blue Jean Shabbat: Get In The Game on Friday\, Feb
 ruary 2\, 2018 at 6:00 pm. Featuring your choice of either a family-friend
 ly Kabbalat Shabbat service or congregational service in the Chapel follow
 ed by an evening that is medal-worthy! Tons of games and activities for ev
 eryone in the family and more. Member Adults $25\; Member Children (4-13 y
 ears) $20\; Non-Members Adults $30\; Non-Member Children (4-13) $25. Child
 ren 3 and under FREE. Register now with the office by calling 416-221-3433
  or...
DTSTART;TZID=America/Toronto:20180202T180000
DTEND;TZID=America/Toronto:20180202T210000
END:VEVENT
END:VCALENDAR
