BEGIN:VCALENDAR
PRODID:-//eluceo/ical//2.0/EN
VERSION:2.0
CALSCALE:GREGORIAN
BEGIN:VEVENT
UID:b62af759192b87dfbd422a68a0b9b878
DTSTAMP:20260422T050516Z
SUMMARY:Off the Dereḥ: Halacḥah and the 21st Century
DESCRIPTION:UJA Federation of Greater Toronto\nJewish Toronto Calendar\nhtt
 ps://jewishtoronto.com/calendar/off-the-dere-halacah-and-the-21st-century-
 1541029254\n\nWhat would the rabbis of the Mishnah and Talmud think of how
  halaḥah is applied and practiced today?\nWould they be impressed or hor
 rified?  What accounts for the dramatic shift in halaḥic practice in the
  past 40 years? Let’s discuss after Kiddush. 
DTSTART;TZID=America/Toronto:20181124T133000
DTEND;TZID=America/Toronto:20181124T143000
END:VEVENT
END:VCALENDAR
