BEGIN:VCALENDAR
PRODID:-//eluceo/ical//2.0/EN
VERSION:2.0
CALSCALE:GREGORIAN
BEGIN:VEVENT
UID:eedfc4faf3434f19050e634ae38c0e96
DTSTAMP:20260425T212413Z
SUMMARY:Nova Exhibition Toronto
DESCRIPTION:UJA Federation of Greater Toronto\nJewish Toronto Calendar\nhtt
 ps://jewishtoronto.com/calendar/nova-exhibition-toronto-1741727090\n\nVisi
 tors will travel on a timeline of the Nova Music Festival on October 7th\,
  telling the story of the events on that dreadful day. A carefully-crafted
  mosaic of information\, evidence\, and emotion. The remains of joy\, whic
 h now serves as bleak evidence of the sharp contrast between revered value
 s and the cruel sting of the reality of that day. We invite you to walk th
 rough the winding path from the depths of pain and loss to the threshold o
 f action\, the healing and the hope of the community....
DTSTART;TZID=America/Toronto:20250423T110000
DTEND;TZID=America/Toronto:20250423T130000
END:VEVENT
END:VCALENDAR
