BEGIN:VCALENDAR
PRODID:-//eluceo/ical//2.0/EN
VERSION:2.0
CALSCALE:GREGORIAN
BEGIN:VEVENT
UID:46a36e53178e623f66fa800947caf376
DTSTAMP:20260421T092827Z
SUMMARY:Notable Speakers: The Making of a Mensch
DESCRIPTION:UJA Federation of Greater Toronto\nJewish Toronto Calendar\nhtt
 ps://jewishtoronto.com/calendar/notable-speakers-the-making-of-a-mensch-16
 34664083\n\nThe Crucial Role of Grandparents\n\nWithout even trying\, gran
 dparents mold the character of the children. Noted author Jane Isay shares
  key ideas about how grandparents contribute to the character of the grand
 children with lessons drawn from Jewish wisdom on how to live a good life 
 and be a mensch.\n\nThis program will be offered via Zoom. Pre-registratio
 n is required to receive the link information. To register\, visit https:/
 /bethtzedectoronto.shulcloud.com/form/notable-speakers-fall-2021.html.
DTSTART;TZID=America/Toronto:20211020T133000
DTEND;TZID=America/Toronto:20211020T150000
END:VEVENT
END:VCALENDAR
