BEGIN:VCALENDAR
PRODID:-//eluceo/ical//2.0/EN
VERSION:2.0
CALSCALE:GREGORIAN
BEGIN:VEVENT
UID:98a8b14b1cc47f52f67bae3898781acb
DTSTAMP:20260420T102349Z
SUMMARY:Notable Speakers: The Enigma of Time with Dan Falk
DESCRIPTION:UJA Federation of Greater Toronto\nJewish Toronto Calendar\nhtt
 ps://jewishtoronto.com/calendar/notable-speakers-the-enigma-of-time-with-d
 an-falk-1600281790\n\nTime is at once intimately familiar and yet deeply m
 ysterious. In this illustrated talk – adapted from his second book\, In 
 Search of Time – Dan Falk looks at the quest to make sense of time\, fro
 m the earliest calendars and clocks to the question of time travel\, and b
 eyond. Why do we need atomic clocks\, that can measure time to within the 
 tiniest fraction of a second? Could time travel ever be more than science 
 fiction? 
DTSTART;TZID=America/Toronto:20201104T130000
DTEND;TZID=America/Toronto:20201104T143000
END:VEVENT
END:VCALENDAR
