BEGIN:VCALENDAR
PRODID:-//eluceo/ical//2.0/EN
VERSION:2.0
CALSCALE:GREGORIAN
BEGIN:VEVENT
UID:9eab9a58aef48bc53c2ec15d09f7dfb9
DTSTAMP:20260424T090646Z
SUMMARY:Nosh at the J with Michael Twitty
DESCRIPTION:UJA Federation of Greater Toronto\nJewish Toronto Calendar\nhtt
 ps://jewishtoronto.com/calendar/nosh-at-the-j-with-michael-twitty-16728683
 81\n\nMichael W. Twitty is a culinary historian\, food writer\, former Heb
 rew teacher\, and Talmudic sage. His second book\, Koshersoul\, became ava
 ilable in 2022.\n\nIn Koshersoul\, Michael W. Twitty considers the marriag
 e of two of the most distinctive culinary cultures in the world today: the
  foods and traditions of the African Atlantic and the global Jewish diaspo
 ra. To Twitty\, the creation of African-Jewish cooking is a conversation o
 f migrations and a dialogue of diasporas offering a rich...
DTSTART;TZID=America/Toronto:20230119T200000
DTEND;TZID=America/Toronto:20230119T220000
END:VEVENT
END:VCALENDAR
