BEGIN:VCALENDAR
PRODID:-//eluceo/ical//2.0/EN
VERSION:2.0
CALSCALE:GREGORIAN
BEGIN:VEVENT
UID:27d1e96db2d891c26230912a62f653bf
DTSTAMP:20260424T001132Z
SUMMARY:Night of Hope the Sequel
DESCRIPTION:UJA Federation of Greater Toronto\nJewish Toronto Calendar\nhtt
 ps://jewishtoronto.com/calendar/night-of-hope-the-sequel\n\nNight of Hope 
 the Sequel
DTSTART;TZID=America/Toronto:20140610T193000
DTEND;TZID=America/Toronto:20140610T220000
END:VEVENT
END:VCALENDAR
