BEGIN:VCALENDAR
PRODID:-//eluceo/ical//2.0/EN
VERSION:2.0
CALSCALE:GREGORIAN
BEGIN:VEVENT
UID:52270e3de10dbae3880a08114c343f1e
DTSTAMP:20260425T190118Z
SUMMARY:Night of Heroes
DESCRIPTION:UJA Federation of Greater Toronto\nJewish Toronto Calendar\nhtt
 ps://jewishtoronto.com/calendar/night-of-heroes-1567713751\n\nJoin Ezer Mi
 zion November 9th\, 2019 for this amazing Night of Heroes with Lior Raz an
 d Ziv Shilon. 
DTSTART;TZID=America/Toronto:20191109T193000
DTEND;TZID=America/Toronto:20191109T230000
END:VEVENT
END:VCALENDAR
