BEGIN:VCALENDAR
PRODID:-//eluceo/ical//2.0/EN
VERSION:2.0
CALSCALE:GREGORIAN
BEGIN:VEVENT
UID:d072c0e411378edd7c6f1443b6393c05
DTSTAMP:20260420T144222Z
SUMMARY:Nifty November Market
DESCRIPTION:UJA Federation of Greater Toronto\nJewish Toronto Calendar\nhtt
 ps://jewishtoronto.com/calendar/nifty-november-market-1762882674\n\nThe Ni
 fty November Market vendor event will be held on Sunday\, November 23\, fr
 om 12:30 PM to 4:00 PM. It is a vibrant vendor market featuring a diverse 
 array of handmade crafts including woodworking\, photography\, jewelry\, c
 rochet\, mosaics\, crystals\, art cards\, and much more. This market offer
 s a unique opportunity to shop local\, support artisans\, and discover one
 -of-a-kind creations in a friendly community atmosphere. Join us for an en
 joyable afternoon of creativity and connection at this spe...
DTSTART;TZID=America/Toronto:20251123T123000
DTEND;TZID=America/Toronto:20251123T160000
END:VEVENT
END:VCALENDAR
